BEGIN:VCALENDAR
VERSION:2.0
PRODID:-//The Tarot Guild of Australia - ECPv5.0.2.1//NONSGML v1.0//EN
CALSCALE:GREGORIAN
METHOD:PUBLISH
X-WR-CALNAME:The Tarot Guild of Australia
X-ORIGINAL-URL:https://www.tarotguild.org.au
X-WR-CALDESC:Events for The Tarot Guild of Australia
BEGIN:VTIMEZONE
TZID:Australia/Melbourne
BEGIN:STANDARD
TZOFFSETFROM:+1100
TZOFFSETTO:+1000
TZNAME:AEST
DTSTART:20200404T160000
END:STANDARD
BEGIN:DAYLIGHT
TZOFFSETFROM:+1000
TZOFFSETTO:+1100
TZNAME:AEDT
DTSTART:20201003T160000
END:DAYLIGHT
END:VTIMEZONE
BEGIN:VEVENT
DTSTART;TZID=Australia/Melbourne:20200506T181500
DTEND;TZID=Australia/Melbourne:20200506T204500
DTSTAMP:20200301T191842
CREATED:20200206T052819Z
LAST-MODIFIED:20200208T053010Z
UID:4951-1588788900-1588797900@www.tarotguild.org.au
SUMMARY:TGA Perth May 6th Workshop – Connecting to and Living in Harmony with Mother Earth Gaia Through the Tarot - with Guest Speaker Tara Spackman
DESCRIPTION:Connecting to and Living in Harmony with Mother Earth Gaia\nThrough the Tarot\nwith Guest Speaker Tara Spackman\nPsychic/Medium\, Devotional Sanskrit Singer and Universal Spiritual Teacher and Keynote Speaker Tara (Daya Enlightened) takes you through the ancient wisdom of the Archturean\, Atlanean\, Lemurian\, Pleides and the Native American Indian and Indigenous Civilisations and Prophecies and discusses how the Wisdom hidden deeply in the Tarot can help to connect us to the Hopi Prophecy\, the end of the two-hearted path of separation into the 5D consciousness of the one hearted path. Through the tarot we can come to sacred union within our own hearts\, and live within our Divine Masculine and Sacred Feminine Energies\, so that we can live in harmony with Mother Earth Gaia and Divine Source. \nShare this \n\n\n
URL:https://www.tarotguild.org.au/event/tga-perth-tarot-workshop-may-6th-cosmic-tarot-harmony-with-gaia-tara-spackman-2/
LOCATION:Samsara World\, 5/47 Boranup Avenue\, Clarkson\, WA\, 6030\, Australia
CATEGORIES:WA Tarot Events
ATTACH;FMTTYPE=image/png:https://www.tarotguild.org.au/wp-content/uploads/2020/02/2020-Perth-May-Monthly-Workshop-2.png
END:VEVENT
END:VCALENDAR