BEGIN:VCALENDAR
VERSION:2.0
PRODID:-//The Tarot Guild of Australia - ECPv5.0.2.1//NONSGML v1.0//EN
CALSCALE:GREGORIAN
METHOD:PUBLISH
X-WR-CALNAME:The Tarot Guild of Australia
X-ORIGINAL-URL:https://www.tarotguild.org.au
X-WR-CALDESC:Events for The Tarot Guild of Australia
BEGIN:VTIMEZONE
TZID:Australia/Melbourne
BEGIN:STANDARD
TZOFFSETFROM:+1100
TZOFFSETTO:+1000
TZNAME:AEST
DTSTART:20200404T160000
END:STANDARD
BEGIN:DAYLIGHT
TZOFFSETFROM:+1000
TZOFFSETTO:+1100
TZNAME:AEDT
DTSTART:20201003T160000
END:DAYLIGHT
END:VTIMEZONE
BEGIN:VEVENT
DTSTART;TZID=Australia/Melbourne:20200708T181500
DTEND;TZID=Australia/Melbourne:20200708T204500
DTSTAMP:20200301T191939
CREATED:20200207T053145Z
LAST-MODIFIED:20200207T053145Z
UID:5019-1594232100-1594241100@www.tarotguild.org.au
SUMMARY:TGA Perth July 8th Workshop – THE ARTS OF TAROT AND ASTROLOGY - with Guest Speaker Becky Newell
DESCRIPTION:The Arts of Tarot and Astrology\n with Guest Speaker Becky Newell\nThe art of Tarot and Astrology share many correlations in their use of symbolism and imagery\, enhancing our understanding of both fields of study. \nWe will consider some aspects of Tarot through the lens of an astrological point of view\, facilitated by Becky Newell\, who has a long-standing interest in the interaction of the two modalities. \nCome along and help to share and workshop our ideas\, and do bring your cards! \nShare this \n\n\n
URL:https://www.tarotguild.org.au/event/tga-perth-workshop-july-8th-2020-tarot-and-astrology-symbolism-imagery-becky-newell/
LOCATION:Samsara World\, 5/47 Boranup Avenue\, Clarkson\, WA\, 6030\, Australia
CATEGORIES:WA Tarot Events
ATTACH;FMTTYPE=image/png:https://www.tarotguild.org.au/wp-content/uploads/2020/02/2020-Perth-July-Monthly-Workshop-1.png
END:VEVENT
END:VCALENDAR