BEGIN:VCALENDAR
VERSION:2.0
PRODID:-//The Tarot Guild of Australia - ECPv5.0.2.1//NONSGML v1.0//EN
CALSCALE:GREGORIAN
METHOD:PUBLISH
X-WR-CALNAME:The Tarot Guild of Australia
X-ORIGINAL-URL:https://www.tarotguild.org.au
X-WR-CALDESC:Events for The Tarot Guild of Australia
BEGIN:VTIMEZONE
TZID:Australia/Melbourne
BEGIN:STANDARD
TZOFFSETFROM:+1100
TZOFFSETTO:+1000
TZNAME:AEST
DTSTART:20200404T160000
END:STANDARD
BEGIN:DAYLIGHT
TZOFFSETFROM:+1000
TZOFFSETTO:+1100
TZNAME:AEDT
DTSTART:20201003T160000
END:DAYLIGHT
END:VTIMEZONE
BEGIN:VEVENT
DTSTART;TZID=Australia/Melbourne:20200409T183000
DTEND;TZID=Australia/Melbourne:20200409T203000
DTSTAMP:20200301T191636
CREATED:20200208T012109Z
LAST-MODIFIED:20200208T012109Z
UID:5053-1586457000-1586464200@www.tarotguild.org.au
SUMMARY:TGA Sydney April 9th Workshop - Tarot Astrology Wheel: The Horoscope Spread - with Guest Speaker Julia Chalmers
DESCRIPTION: Tarot Astrology Wheel: The Horoscope Spread\n\nwith Julia Chalmers\n\nUsing The Horoscope Spread with the Tarot cards is an excellent way of gathering more insight and clarity in our readings.  The spread shows the area of life where we may experience some tension or conflict.  With the help of drawing extra clarifying cards on particular area(s) of our lives we can reveal ways of dealing with the energy in a proactive approach. \nCome and learn how this spread can help enhance your readings. There is no need to have any prior Astrology knowledge to benefit from the layout. A handout will be provided describing the areas of life represented by each of the 12 houses in the Horoscope Spread. \nBio:  Julia Chalmers\nJulia Chalmers is a professional Astrologer and currently lives in the Blue Mountains.  Her interest in Astrology started from an early age\, after being introduced to Astrology by her father.  Julia has never lost interest in this fascinating subject as there is always something to learn. She holds a Diploma of Contemporary Astrology from the Earth Institute in Sydney and became a Professional member of the Tarot Guild of Australia in November 2019. \nContact Julia at juliachalmer@gmail.com or 0416 153 390. \nShare this \n\n\n
URL:https://www.tarotguild.org.au/event/tga-sydney-tarot-workshop-april-9th-2020-horoscope-spread-julia-chalmers/
LOCATION:Awareness Institute\, Level 1/28 Chandos Street\, St Leonards\, NSW\, 2065\, Australia
CATEGORIES:NSW Tarot Events
ATTACH;FMTTYPE=image/png:https://www.tarotguild.org.au/wp-content/uploads/2020/02/2020-Sydney-April-Monthly-Workshop.png
END:VEVENT
END:VCALENDAR